BEGIN:VCALENDAR
VERSION:2.0
PRODID:-//VVF - Vorarlberger Fasnat Portal//NONSGML kigkonsult.se iCalcreator 2.41.92//
CALSCALE:GREGORIAN
METHOD:PUBLISH
UID:34343138-6538-4339-a361-643137666637
X-WR-CALNAME:iCagenda
X-WR-CALDESC:Event Management Extension for Joomla!
X-WR-RELCALID:3E26604A-50F4-4449-8B3E-E4F4932D05B5
X-WR-TIMEZONE:Europe/Vienna
BEGIN:VTIMEZONE
TZID:Europe/Vienna
TZUNTIL:20271031T010000Z
BEGIN:STANDARD
TZNAME:CET
DTSTART:20251026T030000
TZOFFSETFROM:+0200
TZOFFSETTO:+0100
RDATE:20261025T030000
END:STANDARD
BEGIN:DAYLIGHT
TZNAME:CEST
DTSTART:20250330T020000
TZOFFSETFROM:+0100
TZOFFSETTO:+0200
RDATE:20260329T020000
RDATE:20270328T020000
END:DAYLIGHT
END:VTIMEZONE
BEGIN:VEVENT
UID:37643366-3835-4231-b962-313262386533
DTSTAMP:20260425T110128Z
CATEGORIES:Umzüge
CLASS:PUBLIC
DESCRIPTION:
DTSTART:20260217T130000Z
DTEND:20260217T230000Z
GEO:00;0
LOCATION:Schnifis
ORGANIZER;CN=:mailto:j.wiederin@aon.at
SEQUENCE:1
SUMMARY:Faschingsumzug
TRANSP:OPAQUE
URL:https://vvf.at/veranstaltungen/faschingsumzug-3?layout=vcal
END:VEVENT
END:VCALENDAR
