BEGIN:VCALENDAR
VERSION:2.0
PRODID:-//VVF - Vorarlberger Fasnat Portal//NONSGML kigkonsult.se iCalcreator 2.41.92//
CALSCALE:GREGORIAN
METHOD:PUBLISH
UID:66643338-3737-4436-a532-366161346631
X-WR-CALNAME:iCagenda
X-WR-CALDESC:Event Management Extension for Joomla!
X-WR-RELCALID:3E26604A-50F4-4449-8B3E-E4F4932D05B5
X-WR-TIMEZONE:Europe/Vienna
BEGIN:VTIMEZONE
TZID:Europe/Vienna
TZUNTIL:20261025T010000Z
BEGIN:STANDARD
TZNAME:CET
DTSTART:20241027T030000
TZOFFSETFROM:+0200
TZOFFSETTO:+0100
RDATE:20251026T030000
END:STANDARD
BEGIN:DAYLIGHT
TZNAME:CEST
DTSTART:20240331T020000
TZOFFSETFROM:+0100
TZOFFSETTO:+0200
RDATE:20250330T020000
RDATE:20260329T020000
END:DAYLIGHT
END:VTIMEZONE
BEGIN:VEVENT
UID:30303639-3238-4763-b037-326666633165
DTSTAMP:20260425T173728Z
CATEGORIES:Umzüge
CLASS:PUBLIC
DESCRIPTION;ALTREP="CID:<FFFF__=0ABBE548DFE235B58f9e8a93d@coffeebean.com>":
 Bewirtung ab 11 Uhr. Happy Hour von 12-13 Uhr mit Guggamusik.\nUmzugsaufst
 ellung: 13:00 Uhr\nStart: 14:00Uhr\n \nAusklang beim Schulplatz
DTSTART:20250126T100000Z
DTEND:20250126T183000Z
GEO:+47.077518;+9.901769
LOCATION:Tschagguns
ORGANIZER;CN=:mailto:goladroli@gmail.com
SEQUENCE:1
SUMMARY:Faschingsumzug Tschagguns
TRANSP:OPAQUE
URL:https://vvf.at/veranstaltungen/faschingsumzug-tschagguns-2?layout=vcal
END:VEVENT
END:VCALENDAR
