BEGIN:VCALENDAR
VERSION:2.0
PRODID:-//VVF - Vorarlberger Fasnat Portal//NONSGML kigkonsult.se iCalcreator 2.41.92//
CALSCALE:GREGORIAN
METHOD:PUBLISH
UID:63663735-3438-4739-b661-383937343339
X-WR-CALNAME:iCagenda
X-WR-CALDESC:Event Management Extension for Joomla!
X-WR-RELCALID:3E26604A-50F4-4449-8B3E-E4F4932D05B5
X-WR-TIMEZONE:Europe/Vienna
BEGIN:VTIMEZONE
TZID:Europe/Vienna
TZUNTIL:20281029T010000Z
BEGIN:STANDARD
TZNAME:CET
DTSTART:20261025T030000
TZOFFSETFROM:+0200
TZOFFSETTO:+0100
RDATE:20271031T030000
END:STANDARD
BEGIN:DAYLIGHT
TZNAME:CEST
DTSTART:20260329T020000
TZOFFSETFROM:+0100
TZOFFSETTO:+0200
RDATE:20270328T020000
RDATE:20280326T020000
END:DAYLIGHT
END:VTIMEZONE
BEGIN:VEVENT
UID:61636639-3938-4634-b934-653236393462
DTSTAMP:20260424T114500Z
CATEGORIES:Umzüge
CLASS:PUBLIC
DESCRIPTION;ALTREP="CID:<FFFF__=0ABBE548DFE235B58f9e8a93d@coffeebean.com>":
 Programm:\nab 13:00 Uhr Aufstellung zum Faschingsumzug\nab 14:00 Uhr Start
  des Umzuges\nab ca. 15:00 Uhr Buntes Faschingstreiben im Winzersaal
DTSTART:20270123T230000Z
DTEND:20270123T230000Z
GEO:00;0
LOCATION:Klaus
ORGANIZER:
SEQUENCE:1
SUMMARY:Großer Klauser Faschingsumzug
TRANSP:OPAQUE
URL:https://vvf.at/veranstaltungen/grosser-klauser-faschingsumzug-3/2027-01
 -24-00-00?layout=vcal
END:VEVENT
END:VCALENDAR
